BEGIN:VCALENDAR
VERSION:2.0
PRODID:-//Hotel and Lodging Association of Greater Houston - ECPv6.15.20//NONSGML v1.0//EN
CALSCALE:GREGORIAN
METHOD:PUBLISH
X-WR-CALNAME:Hotel and Lodging Association of Greater Houston
X-ORIGINAL-URL:https://houstonhotels.org
X-WR-CALDESC:Events for Hotel and Lodging Association of Greater Houston
REFRESH-INTERVAL;VALUE=DURATION:PT1H
X-Robots-Tag:noindex
X-PUBLISHED-TTL:PT1H
BEGIN:VTIMEZONE
TZID:America/Chicago
BEGIN:DAYLIGHT
TZOFFSETFROM:-0600
TZOFFSETTO:-0500
TZNAME:CDT
DTSTART:20210314T080000
END:DAYLIGHT
BEGIN:STANDARD
TZOFFSETFROM:-0500
TZOFFSETTO:-0600
TZNAME:CST
DTSTART:20211107T070000
END:STANDARD
BEGIN:DAYLIGHT
TZOFFSETFROM:-0600
TZOFFSETTO:-0500
TZNAME:CDT
DTSTART:20220313T080000
END:DAYLIGHT
BEGIN:STANDARD
TZOFFSETFROM:-0500
TZOFFSETTO:-0600
TZNAME:CST
DTSTART:20221106T070000
END:STANDARD
BEGIN:DAYLIGHT
TZOFFSETFROM:-0600
TZOFFSETTO:-0500
TZNAME:CDT
DTSTART:20230312T080000
END:DAYLIGHT
BEGIN:STANDARD
TZOFFSETFROM:-0500
TZOFFSETTO:-0600
TZNAME:CST
DTSTART:20231105T070000
END:STANDARD
BEGIN:DAYLIGHT
TZOFFSETFROM:-0600
TZOFFSETTO:-0500
TZNAME:CDT
DTSTART:20240310T080000
END:DAYLIGHT
BEGIN:STANDARD
TZOFFSETFROM:-0500
TZOFFSETTO:-0600
TZNAME:CST
DTSTART:20241103T070000
END:STANDARD
BEGIN:DAYLIGHT
TZOFFSETFROM:-0600
TZOFFSETTO:-0500
TZNAME:CDT
DTSTART:20250309T080000
END:DAYLIGHT
BEGIN:STANDARD
TZOFFSETFROM:-0500
TZOFFSETTO:-0600
TZNAME:CST
DTSTART:20251102T070000
END:STANDARD
END:VTIMEZONE
BEGIN:VEVENT
DTSTART;TZID=America/Chicago:20240625T130000
DTEND;TZID=America/Chicago:20240625T183000
DTSTAMP:20260421T201526
CREATED:20240402T201328Z
LAST-MODIFIED:20240626T210522Z
UID:16691-1719320400-1719340200@houstonhotels.org
SUMMARY:A Day In The Ballpark with HLAGH Houston Astros Vs. Boston Red Sox August 21st
DESCRIPTION:Invite your team members\, family and friends\, but please reserve your tickets today!   Tickets are limited and available on a first come\, first serve basis. \nThe tickets are in section 109 These tickets are priced at $121 each and include a $15 food & beverage voucher. \nPlease note that all tickets must be paid for in advance and there are no refunds or cancellations.
URL:https://houstonhotels.org/event/a-day-in-the-ballpark-with-hlagh-houston-astros-vs-boston-red-sox-august-21st/
LOCATION:Minute Maid Park\, 501 Crawford St.\, Houston\, TX\, 77002\, United States
ATTACH;FMTTYPE=image/jpeg:https://houstonhotels.org/wp-content/uploads/2024/04/Save-The-Date-Astros-2024.jpg
GEO:29.7577058;-95.3545399
X-APPLE-STRUCTURED-LOCATION;VALUE=URI;X-ADDRESS=Minute Maid Park 501 Crawford St. Houston TX 77002 United States;X-APPLE-RADIUS=500;X-TITLE=501 Crawford St.:geo:-95.3545399,29.7577058
END:VEVENT
BEGIN:VEVENT
DTSTART;TZID=America/Chicago:20230824T131000
DTEND;TZID=America/Chicago:20230824T170000
DTSTAMP:20260421T201526
CREATED:20230501T030720Z
LAST-MODIFIED:20230512T190009Z
UID:14354-1692882600-1692896400@houstonhotels.org
SUMMARY:A Day At The BallPark with HLAGH - Houston Astros Vs. Boston Red Sox
DESCRIPTION:Good afternoon HLAGH Members\, \nJoin us for the HLAGH Annual Event at Minute Maid Park where the Houston Astros will face off against the Boston Red Sox on Thursday\, August 24th at 1:10 pm. \nThe tickets are in section 109/110 and only 100 available tickets. These tickets are priced at $101 each and include a $15 food & beverage voucher. \nHurry and purchase your tickets now before they sell out! Please note that all tickets must be paid for in advance and there are no refunds or cancellations.
URL:https://houstonhotels.org/event/a-day-at-the-ballpark-with-hlagh-houston-astros-vs-boston-red-sox/
LOCATION:Minute Maid Park\, 501 Crawford St.\, Houston\, TX\, 77002\, United States
GEO:29.7577058;-95.3545399
X-APPLE-STRUCTURED-LOCATION;VALUE=URI;X-ADDRESS=Minute Maid Park 501 Crawford St. Houston TX 77002 United States;X-APPLE-RADIUS=500;X-TITLE=501 Crawford St.:geo:-95.3545399,29.7577058
END:VEVENT
BEGIN:VEVENT
DTSTART;TZID=America/Chicago:20220707T131000
DTEND;TZID=America/Chicago:20220707T170000
DTSTAMP:20260421T201526
CREATED:20220331T195227Z
LAST-MODIFIED:20220531T210339Z
UID:11849-1657199400-1657213200@houstonhotels.org
SUMMARY:A Day at The Ballpark with HLAGH-SOLD OUT!
DESCRIPTION:ALL TICKET SALES ARE FINAL AND NO SHOW WILL NOT BE REFUNDED.
URL:https://houstonhotels.org/event/a-day-at-the-ballpark-with-hlagh/
LOCATION:Minute Maid Park\, 501 Crawford St.\, Houston\, TX\, 77002\, United States
GEO:29.7577058;-95.3545399
X-APPLE-STRUCTURED-LOCATION;VALUE=URI;X-ADDRESS=Minute Maid Park 501 Crawford St. Houston TX 77002 United States;X-APPLE-RADIUS=500;X-TITLE=501 Crawford St.:geo:-95.3545399,29.7577058
END:VEVENT
END:VCALENDAR