BEGIN:VCALENDAR
VERSION:2.0
PRODID:-//Hotel and Lodging Association of Greater Houston - ECPv6.15.20//NONSGML v1.0//EN
CALSCALE:GREGORIAN
METHOD:PUBLISH
X-ORIGINAL-URL:https://houstonhotels.org
X-WR-CALDESC:Events for Hotel and Lodging Association of Greater Houston
REFRESH-INTERVAL;VALUE=DURATION:PT1H
X-Robots-Tag:noindex
X-PUBLISHED-TTL:PT1H
BEGIN:VTIMEZONE
TZID:America/Chicago
BEGIN:DAYLIGHT
TZOFFSETFROM:-0600
TZOFFSETTO:-0500
TZNAME:CDT
DTSTART:20230312T080000
END:DAYLIGHT
BEGIN:STANDARD
TZOFFSETFROM:-0500
TZOFFSETTO:-0600
TZNAME:CST
DTSTART:20231105T070000
END:STANDARD
BEGIN:DAYLIGHT
TZOFFSETFROM:-0600
TZOFFSETTO:-0500
TZNAME:CDT
DTSTART:20240310T080000
END:DAYLIGHT
BEGIN:STANDARD
TZOFFSETFROM:-0500
TZOFFSETTO:-0600
TZNAME:CST
DTSTART:20241103T070000
END:STANDARD
BEGIN:DAYLIGHT
TZOFFSETFROM:-0600
TZOFFSETTO:-0500
TZNAME:CDT
DTSTART:20250309T080000
END:DAYLIGHT
BEGIN:STANDARD
TZOFFSETFROM:-0500
TZOFFSETTO:-0600
TZNAME:CST
DTSTART:20251102T070000
END:STANDARD
END:VTIMEZONE
BEGIN:VEVENT
DTSTART;TZID=America/Chicago:20240125T110000
DTEND;TZID=America/Chicago:20240125T130000
DTSTAMP:20260424T160206
CREATED:20231221T203646Z
LAST-MODIFIED:20240122T200843Z
UID:15906-1706180400-1706187600@houstonhotels.org
SUMMARY:Join Us for The HLAGH Annual Meeting Featuring Patrick Jankowski GHP
DESCRIPTION:As the Senior Vice President of Research at the Greater Houston Partnership. Patrick oversees the research department\, which provided data analysis and forecasting functions for the Partnership.  HIs observation and analysis of the local\, regional\, and U.S. economic trends have appeared in over 200 newspapers\, magazines\, radio\, and television broadcasts. \nDon’t miss this opportunity to gain insights into the economic landscape for the coming year.  Join us foro an informative luncheon that promises valuable perspectives and networking opportunities. \nAs this is the year’s first meeting\, Jacques D’rovencourt\, HLAGH Chair\, will present the proposed 2024 HLAGH Board of Directors.
URL:https://houstonhotels.org/event/join-us-for-the-hlagh-annual-meeting-featuring-patrick-jankowski-ghp/
LOCATION:HIlton Post Oak by th Galleria\, 2001 Post Oak Boulevard\, Houston\, 77056\, United States
ATTACH;FMTTYPE=image/jpeg:https://houstonhotels.org/wp-content/uploads/2023/12/hilton-post-oak-by-the-galleria.jpg
GEO:29.7459314;-95.4596795
X-APPLE-STRUCTURED-LOCATION;VALUE=URI;X-ADDRESS=HIlton Post Oak by th Galleria 2001 Post Oak Boulevard Houston 77056 United States;X-APPLE-RADIUS=500;X-TITLE=2001 Post Oak Boulevard:geo:-95.4596795,29.7459314
END:VEVENT
END:VCALENDAR