BEGIN:VCALENDAR
VERSION:2.0
PRODID:-//Hotel and Lodging Association of Greater Houston - ECPv6.15.20//NONSGML v1.0//EN
CALSCALE:GREGORIAN
METHOD:PUBLISH
X-WR-CALNAME:Hotel and Lodging Association of Greater Houston
X-ORIGINAL-URL:https://houstonhotels.org
X-WR-CALDESC:Events for Hotel and Lodging Association of Greater Houston
REFRESH-INTERVAL;VALUE=DURATION:PT1H
X-Robots-Tag:noindex
X-PUBLISHED-TTL:PT1H
BEGIN:VTIMEZONE
TZID:America/Chicago
BEGIN:DAYLIGHT
TZOFFSETFROM:-0600
TZOFFSETTO:-0500
TZNAME:CDT
DTSTART:20220313T080000
END:DAYLIGHT
BEGIN:STANDARD
TZOFFSETFROM:-0500
TZOFFSETTO:-0600
TZNAME:CST
DTSTART:20221106T070000
END:STANDARD
BEGIN:DAYLIGHT
TZOFFSETFROM:-0600
TZOFFSETTO:-0500
TZNAME:CDT
DTSTART:20230312T080000
END:DAYLIGHT
BEGIN:STANDARD
TZOFFSETFROM:-0500
TZOFFSETTO:-0600
TZNAME:CST
DTSTART:20231105T070000
END:STANDARD
BEGIN:DAYLIGHT
TZOFFSETFROM:-0600
TZOFFSETTO:-0500
TZNAME:CDT
DTSTART:20240310T080000
END:DAYLIGHT
BEGIN:STANDARD
TZOFFSETFROM:-0500
TZOFFSETTO:-0600
TZNAME:CST
DTSTART:20241103T070000
END:STANDARD
BEGIN:DAYLIGHT
TZOFFSETFROM:-0600
TZOFFSETTO:-0500
TZNAME:CDT
DTSTART:20250309T080000
END:DAYLIGHT
BEGIN:STANDARD
TZOFFSETFROM:-0500
TZOFFSETTO:-0600
TZNAME:CST
DTSTART:20251102T070000
END:STANDARD
BEGIN:DAYLIGHT
TZOFFSETFROM:-0600
TZOFFSETTO:-0500
TZNAME:CDT
DTSTART:20260308T080000
END:DAYLIGHT
BEGIN:STANDARD
TZOFFSETFROM:-0500
TZOFFSETTO:-0600
TZNAME:CST
DTSTART:20261101T070000
END:STANDARD
END:VTIMEZONE
BEGIN:VEVENT
DTSTART;TZID=America/Chicago:20250710T113000
DTEND;TZID=America/Chicago:20250710T133000
DTSTAMP:20260424T143446
CREATED:20250618T220534Z
LAST-MODIFIED:20250702T202941Z
UID:19505-1752147000-1752154200@houstonhotels.org
SUMMARY:Trends in the Hospitality Market with Kevin Donahue\, CBRE
DESCRIPTION:Kevin M. Donahue\, MAI\, has over 20 years of experience in the appraisal of commercial real estate. Mr. Donahue has worked in the CBRE Hotels Valuation & Advisory group specializing in all types of hospitality properties for the past 18 years. \nIn addition to hospitality properties\, Kevin has appraisal experience encompassing a wide variety of property types including retail/commercial\, multifamily residential\, industrial\, office\, special-use and land developments. Mr. Donahue has experience providing valuation and appraisal services\, market studies\, rent analyzes\, feasibility studies\, income and expense analysis\, cash flow projections and expert testimony. He is frequently quoted by the media regarding trends in the hospitality market. \nThank You to Our Event Sponsors: CeilTex & Sparrow Studio \nCeilTex; Our team of commercial ceiling experts specialize in acoustic ceiling\ninstallation and cleaning in Houston and the surrounding areas of Texas. \nFor More Information Please Contact:  \nPresident\, Brian Rutledge \nE:brian@ceiltexinc.com \nOffice: 281-589-2345 \n  \nSparrow Studio is not just a name but a commitment to creating purposeful and inspired environments. \nAt Sparrow Studio\, our approach is rooted in creativity\, precision\, and a deep understanding of how spaces shape experiences. We design thoughtfully curated environments that inspire innovation and connection\, blending beauty with function to create spaces that feel both intentional and effortless. \nWhat sets us apart is our ability to deliver high-impact solutions tailored to any budget\, without compromising on quality\, creativity\, or value. Whether transforming an environment\, a workplace\, or a living space\, we bring the spark that turns your vision into reality. \nFor More Information Please Contact: \nPrincipal and Chief Creating Officer\, Dawn Arcieri \nE: d.arcieri@wearesparrowstudio.com \nM: 281-773-9166 \n 
URL:https://houstonhotels.org/event/trends-in-the-hospitality-market-with-kevin-donahue-cbre/
LOCATION:Four Seasons Houston\, 1300 Lamar Street\, Houston\, TX\, 77010\, United States
ATTACH;FMTTYPE=image/jpeg:https://houstonhotels.org/wp-content/uploads/2025/06/Kevin-Donahue.jpg
GEO:29.7540639;-95.3626819
X-APPLE-STRUCTURED-LOCATION;VALUE=URI;X-ADDRESS=Four Seasons Houston 1300 Lamar Street Houston TX 77010 United States;X-APPLE-RADIUS=500;X-TITLE=1300 Lamar Street:geo:-95.3626819,29.7540639
END:VEVENT
BEGIN:VEVENT
DTSTART;TZID=America/Chicago:20240815T113000
DTEND;TZID=America/Chicago:20240815T133000
DTSTAMP:20260424T143446
CREATED:20240719T182326Z
LAST-MODIFIED:20240812T185404Z
UID:17307-1723721400-1723728600@houstonhotels.org
SUMMARY:Join Us for the HLAGH August Membership Meeting\, With Chris Green
DESCRIPTION:Thank You Tour Our Luncheon Sponsors:\n\n\n\n\nCotton Global Disaster Solutions \nContact: Cynthia Bratton \nPhone Number: 346.280.3322 \nEmail: Cynthia.bratton@cottonteam.com \nFCI Hospitality \nContact: Sam Kandiyoti \nPhone Number: 832.404.2724 \nEmail: sam@fcihospitality.com
URL:https://houstonhotels.org/event/join-us-for-the-hlagh-august-meeting-wth-chris-green/
LOCATION:Four Seasons Houston\, 1300 Lamar Street\, Houston\, TX\, 77010\, United States
ATTACH;FMTTYPE=image/jpeg:https://houstonhotels.org/wp-content/uploads/2024/07/Chris-Green-BIO.jpg
GEO:29.7540639;-95.3626819
X-APPLE-STRUCTURED-LOCATION;VALUE=URI;X-ADDRESS=Four Seasons Houston 1300 Lamar Street Houston TX 77010 United States;X-APPLE-RADIUS=500;X-TITLE=1300 Lamar Street:geo:-95.3626819,29.7540639
END:VEVENT
BEGIN:VEVENT
DTSTART;TZID=America/Chicago:20230427T113000
DTEND;TZID=America/Chicago:20230427T131500
DTSTAMP:20260424T143446
CREATED:20230405T160628Z
LAST-MODIFIED:20230420T201345Z
UID:14069-1682595000-1682601300@houstonhotels.org
SUMMARY:Tourism and Industry Update Featuring Jorge Franz\, Senior Vice President of Tourism and Industry Relations for Houston First Corporation
DESCRIPTION:Jorge Franz oversight over three departments at Houston First.  First is the Tourism department\, which is tasked with travel trade relations and various initiatives designed to help promote Houston to visitors\, like the Houston Marketplace and the Houston Insider program.  He also oversees the Houston Film Commission\, tasked with marketing and promoting the Houston region to producers\, production executives\, and independent filmmakers as a film/TV media production destination.  Lastly\, he oversees the Services Department For Houston First and the company’s event management. \nMr. Franz is very active in the Tourism sector.  He currently serves on Expedia’s Media Solution Select Board\, is the Vice Chair of The Texas Travel Alliance\, and is on the Texas Association of Convention and Visitor Bureaus board.  He is also a Past Chair of the Governor of Texas’ Tourism Advisory Committee.  Mr. Franz was born in Santiago\, Chile\, and has lived in Chile\, Venezuela\, Spain\, and the United States.  He has also represented Houston personally worldwide and is a true believer in Houston as a leisure destination. \nTHANK YOU TO OUR MEETING SPONSOR \nMontgomery Roth Architecture & Interior Design \nWe make dreams come true! Montgomery Roth is an award-winning architecture and interior design firm located in Houston\, Texas. We specialize in combining form and function to create fresh\, sophisticated\, and exciting designs for residential and commercial clients. Montgomery Roth is a one-stop-shop as we handle all aspects of the design and build process\, including procurement.\n​\nReflecting how you want to dwell\, work\, escape\, dine\, shop\, and play\, the Montgomery Roth team utilizes a collaborative process to translate a client’s desire into a vivid reality\, elevating everyday life through evolved design.\n​\nMontgomery Roth’s culture of design innovation is led by licensed architects and interior designers John Montgomery and Lisa Roth\, both firm principals. Become our client to create your own sophisticated and inspiring spaces. \nFor More Information Please Contact:\nLisa Roth\nPrincipal\, AIA Architect\, Registered Interior Designer\nlroth@montgomeryroth.com\n713.654.9400 \nHannah Perepeluk\nBusiness Development and Marketing Coordinator\nhperepeluk@montgomeryroth.com\n713.654.9400 Ext 237
URL:https://houstonhotels.org/event/tourism-and-industry-update-featuring-jorge-franz-senior-vice-president-of-tourism-and-industry-relations-for-houston-first-corporation/
LOCATION:Four Seasons Houston\, 1300 Lamar Street\, Houston\, TX\, 77010\, United States
ATTACH;FMTTYPE=image/jpeg:https://houstonhotels.org/wp-content/uploads/2017/07/Four-Seasons-Houston.jpg-Website.jpg
GEO:29.7540639;-95.3626819
X-APPLE-STRUCTURED-LOCATION;VALUE=URI;X-ADDRESS=Four Seasons Houston 1300 Lamar Street Houston TX 77010 United States;X-APPLE-RADIUS=500;X-TITLE=1300 Lamar Street:geo:-95.3626819,29.7540639
END:VEVENT
END:VCALENDAR