BEGIN:VCALENDAR
VERSION:2.0
PRODID:-//Hotel and Lodging Association of Greater Houston - ECPv6.15.20//NONSGML v1.0//EN
CALSCALE:GREGORIAN
METHOD:PUBLISH
X-ORIGINAL-URL:https://houstonhotels.org
X-WR-CALDESC:Events for Hotel and Lodging Association of Greater Houston
REFRESH-INTERVAL;VALUE=DURATION:PT1H
X-Robots-Tag:noindex
X-PUBLISHED-TTL:PT1H
BEGIN:VTIMEZONE
TZID:America/Chicago
BEGIN:DAYLIGHT
TZOFFSETFROM:-0600
TZOFFSETTO:-0500
TZNAME:CDT
DTSTART:20240310T080000
END:DAYLIGHT
BEGIN:STANDARD
TZOFFSETFROM:-0500
TZOFFSETTO:-0600
TZNAME:CST
DTSTART:20241103T070000
END:STANDARD
BEGIN:DAYLIGHT
TZOFFSETFROM:-0600
TZOFFSETTO:-0500
TZNAME:CDT
DTSTART:20250309T080000
END:DAYLIGHT
BEGIN:STANDARD
TZOFFSETFROM:-0500
TZOFFSETTO:-0600
TZNAME:CST
DTSTART:20251102T070000
END:STANDARD
BEGIN:DAYLIGHT
TZOFFSETFROM:-0600
TZOFFSETTO:-0500
TZNAME:CDT
DTSTART:20260308T080000
END:DAYLIGHT
BEGIN:STANDARD
TZOFFSETFROM:-0500
TZOFFSETTO:-0600
TZNAME:CST
DTSTART:20261101T070000
END:STANDARD
END:VTIMEZONE
BEGIN:VEVENT
DTSTART;TZID=America/Chicago:20250821T113000
DTEND;TZID=America/Chicago:20250821T130000
DTSTAMP:20260423T145744
CREATED:20250724T205050Z
LAST-MODIFIED:20250819T171004Z
UID:19668-1755775800-1755781200@houstonhotels.org
SUMMARY:2025 State of Security with Executive Assistant Chief Jessica Anderson
DESCRIPTION:Jessica Anderson has served the Houston Police Department since 2000 and currently holds the rank of Executive Assistant Chief. \nEAC Anderson oversees Strategic Operations. This executive command plays a critical role in organizing\, directing\, coordinating\, developing\, and implementing management strategies that promote efficient and effective solutions to critical support issues\, including organizational development\, and training. The span of control for this office includes the Homeland Security Command\, Professional Development Command\, and Organizational Support Command. \nIn addition to her regular assignments\, EAC Anderson serves as the legislative liaison for the department\, representing HPD at the State Capitol during the legislative session and assisting as an instructor in various training classes. Her duties also include representing the department and the Chief of Police at ceremonies\, civic meetings\, city council meetings\, and disciplinary hearings. Additionally\, she serves as chairman of various internal committees that address organizational and community issues. \nA native of Boston\, EAC Anderson received her B.A. from Kenyon College (OH) in 1999\, a Masters from University of Houston – Clear Lake in 2003\, and a J.D. from South Texas College of Law in 2009. \n  \nThis luncheon is sponsored by Sentriforce: \nContact Name: Jeffery Knapick \nEmail: jknapick@sentriforce.com \nContact Phone Number: (346) 312-9676 \nCompany Website: https://sentriforce.com/ \nCompany Phone Number: 888-671-2202
URL:https://houstonhotels.org/event/2025-state-of-security-with-executive-assistant-chief-jessica-anderson/
LOCATION:Hotel ZaZa Memorial City\, 9787 Katy Freeway\, Houston\, TX\, 77024\, United States
ATTACH;FMTTYPE=image/png:https://houstonhotels.org/wp-content/uploads/2025/07/2025-State-of-Security-1.png
GEO:29.7827081;-95.5340876
X-APPLE-STRUCTURED-LOCATION;VALUE=URI;X-ADDRESS=Hotel ZaZa Memorial City 9787 Katy Freeway Houston TX 77024 United States;X-APPLE-RADIUS=500;X-TITLE=9787 Katy Freeway:geo:-95.5340876,29.7827081
END:VEVENT
END:VCALENDAR