BEGIN:VCALENDAR
VERSION:2.0
PRODID:-//Hotel and Lodging Association of Greater Houston - ECPv6.15.20//NONSGML v1.0//EN
CALSCALE:GREGORIAN
METHOD:PUBLISH
X-ORIGINAL-URL:https://houstonhotels.org
X-WR-CALDESC:Events for Hotel and Lodging Association of Greater Houston
REFRESH-INTERVAL;VALUE=DURATION:PT1H
X-Robots-Tag:noindex
X-PUBLISHED-TTL:PT1H
BEGIN:VTIMEZONE
TZID:America/Chicago
BEGIN:DAYLIGHT
TZOFFSETFROM:-0600
TZOFFSETTO:-0500
TZNAME:CDT
DTSTART:20230312T080000
END:DAYLIGHT
BEGIN:STANDARD
TZOFFSETFROM:-0500
TZOFFSETTO:-0600
TZNAME:CST
DTSTART:20231105T070000
END:STANDARD
BEGIN:DAYLIGHT
TZOFFSETFROM:-0600
TZOFFSETTO:-0500
TZNAME:CDT
DTSTART:20240310T080000
END:DAYLIGHT
BEGIN:STANDARD
TZOFFSETFROM:-0500
TZOFFSETTO:-0600
TZNAME:CST
DTSTART:20241103T070000
END:STANDARD
BEGIN:DAYLIGHT
TZOFFSETFROM:-0600
TZOFFSETTO:-0500
TZNAME:CDT
DTSTART:20250309T080000
END:DAYLIGHT
BEGIN:STANDARD
TZOFFSETFROM:-0500
TZOFFSETTO:-0600
TZNAME:CST
DTSTART:20251102T070000
END:STANDARD
END:VTIMEZONE
BEGIN:VEVENT
DTSTART;TZID=America/Chicago:20240425T160000
DTEND;TZID=America/Chicago:20240425T200000
DTSTAMP:20260423T131833
CREATED:20240401T175311Z
LAST-MODIFIED:20240409T171853Z
UID:16656-1714060800-1714075200@houstonhotels.org
SUMMARY:Register To Attend The HLAGH April 25th Membership Networking Mixer
DESCRIPTION:Join Us VIP Introduction & Launch Party with Tejas Beers. \nLight Bites\, Space City Vodka Cocktails and Bluebonnet Gin Cocktails.
URL:https://houstonhotels.org/event/register-to-attend-the-hlagh-april-25th-membership-networking-mixer/
LOCATION:Giant Texas Distillers\, 5610 Clinton Drive\, Houston\, 77020\, United States
ATTACH;FMTTYPE=image/jpeg:https://houstonhotels.org/wp-content/uploads/2024/04/Tejas-Beer.jpg
GEO:29.7622323;-95.3113889
X-APPLE-STRUCTURED-LOCATION;VALUE=URI;X-ADDRESS=Giant Texas Distillers 5610 Clinton Drive Houston 77020 United States;X-APPLE-RADIUS=500;X-TITLE=5610 Clinton Drive:geo:-95.3113889,29.7622323
END:VEVENT
END:VCALENDAR