BEGIN:VCALENDAR
VERSION:2.0
PRODID:-//Hotel and Lodging Association of Greater Houston - ECPv6.15.20//NONSGML v1.0//EN
CALSCALE:GREGORIAN
METHOD:PUBLISH
X-ORIGINAL-URL:https://houstonhotels.org
X-WR-CALDESC:Events for Hotel and Lodging Association of Greater Houston
REFRESH-INTERVAL;VALUE=DURATION:PT1H
X-Robots-Tag:noindex
X-PUBLISHED-TTL:PT1H
BEGIN:VTIMEZONE
TZID:America/Chicago
BEGIN:DAYLIGHT
TZOFFSETFROM:-0600
TZOFFSETTO:-0500
TZNAME:CDT
DTSTART:20230312T080000
END:DAYLIGHT
BEGIN:STANDARD
TZOFFSETFROM:-0500
TZOFFSETTO:-0600
TZNAME:CST
DTSTART:20231105T070000
END:STANDARD
BEGIN:DAYLIGHT
TZOFFSETFROM:-0600
TZOFFSETTO:-0500
TZNAME:CDT
DTSTART:20240310T080000
END:DAYLIGHT
BEGIN:STANDARD
TZOFFSETFROM:-0500
TZOFFSETTO:-0600
TZNAME:CST
DTSTART:20241103T070000
END:STANDARD
BEGIN:DAYLIGHT
TZOFFSETFROM:-0600
TZOFFSETTO:-0500
TZNAME:CDT
DTSTART:20250309T080000
END:DAYLIGHT
BEGIN:STANDARD
TZOFFSETFROM:-0500
TZOFFSETTO:-0600
TZNAME:CST
DTSTART:20251102T070000
END:STANDARD
END:VTIMEZONE
BEGIN:VEVENT
DTSTART;TZID=America/Chicago:20240418T113000
DTEND;TZID=America/Chicago:20240418T131500
DTSTAMP:20260423T131826
CREATED:20240403T203045Z
LAST-MODIFIED:20240415T232755Z
UID:16709-1713439800-1713446100@houstonhotels.org
SUMMARY:Join Us for the HLAGH Monthly Membership Meeting\, Thursday\, April 18th Featuring Chris Massey with HCHSA
DESCRIPTION:The Harris County Sports Authority mission is to provide oversight to the world-class\, professional sports venues and promote the region for the sports-related events\, which enhance economic development and bring better quality of life to residents. \nThe 2024 Copa America will be the 48th edition of the Copa America\, the quadrennial international men’s soccer championship organized by South America’s football ruling body CONMEBOLI. \nFourteen U.S. cities\, including Houston\, will play host to Copa América this summer. Mexico opens in Houston on June 22nd NRG Stadium.  The quarterfinals will be held July 4 at NRG Stadium in Houston. \nJoin us on Thursday\, April 18th and get the behind-the-scenes information and have all the tools you need for your hotel to capitalize on this major event. \nThank You To Our April membership Meeting Sponsor: \nSp + Parking – \nLeveraging cutting-edge technology and highly qualified experts to maximize the value of your parking asset.\nOlrick Lucien Regional Hospitality Manager \nC: 617-820-1468 \ne: olucien@spplus.com
URL:https://houstonhotels.org/event/join-us-for-the-hlagh-monthly-membership-meeting-thursday-april-18th-featuring-chris-massey-with-hchsa/
LOCATION:The Westin Houston Medical Center\, 1709 Dryden Road\, Houston\, 77030
ATTACH;FMTTYPE=image/jpeg:https://houstonhotels.org/wp-content/uploads/2024/04/copa-america-1.jpg
GEO:29.7093237;-95.40119
X-APPLE-STRUCTURED-LOCATION;VALUE=URI;X-ADDRESS=The Westin Houston Medical Center 1709 Dryden Road Houston 77030;X-APPLE-RADIUS=500;X-TITLE=1709 Dryden Road:geo:-95.40119,29.7093237
END:VEVENT
END:VCALENDAR