BEGIN:VCALENDAR
VERSION:2.0
PRODID:-//Hotel and Lodging Association of Greater Houston - ECPv6.15.20//NONSGML v1.0//EN
CALSCALE:GREGORIAN
METHOD:PUBLISH
X-WR-CALNAME:Hotel and Lodging Association of Greater Houston
X-ORIGINAL-URL:https://houstonhotels.org
X-WR-CALDESC:Events for Hotel and Lodging Association of Greater Houston
REFRESH-INTERVAL;VALUE=DURATION:PT1H
X-Robots-Tag:noindex
X-PUBLISHED-TTL:PT1H
BEGIN:VTIMEZONE
TZID:America/Chicago
BEGIN:DAYLIGHT
TZOFFSETFROM:-0600
TZOFFSETTO:-0500
TZNAME:CDT
DTSTART:20220313T080000
END:DAYLIGHT
BEGIN:STANDARD
TZOFFSETFROM:-0500
TZOFFSETTO:-0600
TZNAME:CST
DTSTART:20221106T070000
END:STANDARD
BEGIN:DAYLIGHT
TZOFFSETFROM:-0600
TZOFFSETTO:-0500
TZNAME:CDT
DTSTART:20230312T080000
END:DAYLIGHT
BEGIN:STANDARD
TZOFFSETFROM:-0500
TZOFFSETTO:-0600
TZNAME:CST
DTSTART:20231105T070000
END:STANDARD
BEGIN:DAYLIGHT
TZOFFSETFROM:-0600
TZOFFSETTO:-0500
TZNAME:CDT
DTSTART:20240310T080000
END:DAYLIGHT
BEGIN:STANDARD
TZOFFSETFROM:-0500
TZOFFSETTO:-0600
TZNAME:CST
DTSTART:20241103T070000
END:STANDARD
END:VTIMEZONE
BEGIN:VEVENT
DTSTART;TZID=America/Chicago:20230427T113000
DTEND;TZID=America/Chicago:20230427T131500
DTSTAMP:20260425T144451
CREATED:20230405T160628Z
LAST-MODIFIED:20230420T201345Z
UID:14069-1682595000-1682601300@houstonhotels.org
SUMMARY:Tourism and Industry Update Featuring Jorge Franz\, Senior Vice President of Tourism and Industry Relations for Houston First Corporation
DESCRIPTION:Jorge Franz oversight over three departments at Houston First.  First is the Tourism department\, which is tasked with travel trade relations and various initiatives designed to help promote Houston to visitors\, like the Houston Marketplace and the Houston Insider program.  He also oversees the Houston Film Commission\, tasked with marketing and promoting the Houston region to producers\, production executives\, and independent filmmakers as a film/TV media production destination.  Lastly\, he oversees the Services Department For Houston First and the company’s event management. \nMr. Franz is very active in the Tourism sector.  He currently serves on Expedia’s Media Solution Select Board\, is the Vice Chair of The Texas Travel Alliance\, and is on the Texas Association of Convention and Visitor Bureaus board.  He is also a Past Chair of the Governor of Texas’ Tourism Advisory Committee.  Mr. Franz was born in Santiago\, Chile\, and has lived in Chile\, Venezuela\, Spain\, and the United States.  He has also represented Houston personally worldwide and is a true believer in Houston as a leisure destination. \nTHANK YOU TO OUR MEETING SPONSOR \nMontgomery Roth Architecture & Interior Design \nWe make dreams come true! Montgomery Roth is an award-winning architecture and interior design firm located in Houston\, Texas. We specialize in combining form and function to create fresh\, sophisticated\, and exciting designs for residential and commercial clients. Montgomery Roth is a one-stop-shop as we handle all aspects of the design and build process\, including procurement.\n​\nReflecting how you want to dwell\, work\, escape\, dine\, shop\, and play\, the Montgomery Roth team utilizes a collaborative process to translate a client’s desire into a vivid reality\, elevating everyday life through evolved design.\n​\nMontgomery Roth’s culture of design innovation is led by licensed architects and interior designers John Montgomery and Lisa Roth\, both firm principals. Become our client to create your own sophisticated and inspiring spaces. \nFor More Information Please Contact:\nLisa Roth\nPrincipal\, AIA Architect\, Registered Interior Designer\nlroth@montgomeryroth.com\n713.654.9400 \nHannah Perepeluk\nBusiness Development and Marketing Coordinator\nhperepeluk@montgomeryroth.com\n713.654.9400 Ext 237
URL:https://houstonhotels.org/event/tourism-and-industry-update-featuring-jorge-franz-senior-vice-president-of-tourism-and-industry-relations-for-houston-first-corporation/
LOCATION:Four Seasons Houston\, 1300 Lamar Street\, Houston\, TX\, 77010\, United States
ATTACH;FMTTYPE=image/jpeg:https://houstonhotels.org/wp-content/uploads/2017/07/Four-Seasons-Houston.jpg-Website.jpg
GEO:29.7540639;-95.3626819
X-APPLE-STRUCTURED-LOCATION;VALUE=URI;X-ADDRESS=Four Seasons Houston 1300 Lamar Street Houston TX 77010 United States;X-APPLE-RADIUS=500;X-TITLE=1300 Lamar Street:geo:-95.3626819,29.7540639
END:VEVENT
END:VCALENDAR